BEGIN:VCALENDAR
VERSION:2.0
PRODID:-// - ECPv6.15.20//NONSGML v1.0//EN
CALSCALE:GREGORIAN
METHOD:PUBLISH
X-ORIGINAL-URL:https://fortwaynecommunityfishingclub.com
X-WR-CALDESC:Events for 
REFRESH-INTERVAL;VALUE=DURATION:PT1H
X-Robots-Tag:noindex
X-PUBLISHED-TTL:PT1H
BEGIN:VTIMEZONE
TZID:UTC
BEGIN:STANDARD
TZOFFSETFROM:+0000
TZOFFSETTO:+0000
TZNAME:UTC
DTSTART:20210101T000000
END:STANDARD
END:VTIMEZONE
BEGIN:VEVENT
DTSTART;TZID=UTC:20250927T080000
DTEND;TZID=UTC:20250927T120000
DTSTAMP:20260423T161017
CREATED:20250918T020101Z
LAST-MODIFIED:20250918T020101Z
UID:82049-1758960000-1758974400@fortwaynecommunityfishingclub.com
SUMMARY:FALL FAMILY FISHING DERBY
DESCRIPTION:
URL:https://fortwaynecommunityfishingclub.com/event/fall-family-fishing-derby/
LOCATION:Ivan Lebamoff Reservoir Park\, 2300 S Clinton St\, Fort Wayne\, IN\, 46803\, United States
ORGANIZER;CN="Fort Wayne Community Fishing Club":MAILTO:info@fortwaynecommunityfishingclub.com
END:VEVENT
BEGIN:VEVENT
DTSTART;TZID=UTC:20240609T080000
DTEND;TZID=UTC:20240609T160000
DTSTAMP:20260423T161017
CREATED:20240615T040518Z
LAST-MODIFIED:20240615T040518Z
UID:81862-1717920000-1717948800@fortwaynecommunityfishingclub.com
SUMMARY:DERBY 25
DESCRIPTION:
URL:https://fortwaynecommunityfishingclub.com/event/derby-25/
LOCATION:IN
ORGANIZER;CN="Fort Wayne Community Fishing Club":MAILTO:info@fortwaynecommunityfishingclub.com
END:VEVENT
BEGIN:VEVENT
DTSTART;TZID=UTC:20240511T100000
DTEND;TZID=UTC:20240511T160000
DTSTAMP:20260423T161017
CREATED:20240505T014057Z
LAST-MODIFIED:20240505T014057Z
UID:81795-1715421600-1715443200@fortwaynecommunityfishingclub.com
SUMMARY:FWCFC Fishing Derby 25 Fundraiser
DESCRIPTION:← Back Thank you for your response. ✨\n\n\n					\n						\n							\n							\n						\n						\n						\n						\n						\n							\n								\n									\n										\n										\n									\n									\n										\n										\n									\n								\n							\n						\n						\n							\n								\n									\n									\n										\n									\n									\n									\n								\n							\n						\n					\n				\n\n\n\nName(required)\n\n \n			\n				\n					\n						\n						\n						\n					\n				\n				\n			 \n	\n\n\nEmail(required)\n\n \n			\n				\n					\n						\n						\n						\n					\n				\n				\n			 \n	\n\n\nWebsite\n\n \n			\n				\n					\n						\n						\n						\n					\n				\n				\n			 \n	\n\n\nMessage\n\n \n			\n				\n					\n						\n						\n						\n					\n				\n				\n			\n	\n	\n\n				\n					\n				\n						Submit		\n		\n		\n	 \nΔ
URL:https://fortwaynecommunityfishingclub.com/event/fwcfc-fishing-derby-25-fundraiser/
LOCATION:Anthis Career Center\, 1200 S Barr St\, Fort Wayne\, IN\, 46802\, United States
ORGANIZER;CN="Fort Wayne Community Fishing Club":MAILTO:info@fortwaynecommunityfishingclub.com
END:VEVENT
BEGIN:VEVENT
DTSTART;TZID=UTC:20230603T080000
DTEND;TZID=UTC:20230603T160000
DTSTAMP:20260423T161017
CREATED:20230421T212057Z
LAST-MODIFIED:20230421T212057Z
UID:81649-1685779200-1685808000@fortwaynecommunityfishingclub.com
SUMMARY:Fort Wayne Community Fishing Club Annual Fishing Derby #24
DESCRIPTION:Back for its 24th year\, the Fort Wayne Community Fishing Clubs Annual Fishing Derby will take place at Ivan Lebamoff Reservoir Park\, located at 2300 S Clinton St. Fort Wayne\, IN 46803.  Club members and volunteers will be on hand to assist youth and community anglers as they catch the big ones!  Games and prizes will be available for children with prizes going to the girl and boy that catches the biggest fish.  Come out and join the fun! \n 
URL:https://fortwaynecommunityfishingclub.com/event/fort-wayne-community-fishing-club-annual-fishing-derby-24/
LOCATION:Ivan Lebamoff Reservoir Park\, 2300 S Clinton St\, Fort Wayne\, IN\, 46803\, United States
END:VEVENT
BEGIN:VEVENT
DTSTART;TZID=UTC:20230420T050000
DTEND;TZID=UTC:20230420T190000
DTSTAMP:20260423T161018
CREATED:20230421T205627Z
LAST-MODIFIED:20230421T205759Z
UID:81640-1681966800-1682017200@fortwaynecommunityfishingclub.com
SUMMARY:Hunt. Fish. Feed
DESCRIPTION:On April 20\, 2023 the FWCFC participated in the Hunt. Fish. Feed program at the Boys & Girls Club of Fort Wayne.  This event was sponsored by Xfinity in conjunction with L.C Nature.  While at the event\, club members were able to interact with some young and curious anglers.  The event was a huge success that concluded with 20 laptops being donated to members of the Boys & Girls Club. 
URL:https://fortwaynecommunityfishingclub.com/event/hunt-fish-feed/
LOCATION:Boys & Girls Club\, 2609 Fairfield Ave\, Fort Wayne\, IN\, 46807\, United States
END:VEVENT
BEGIN:VEVENT
DTSTART;VALUE=DATE:20220924
DTEND;VALUE=DATE:20220925
DTSTAMP:20260423T161018
CREATED:20220821T150020Z
LAST-MODIFIED:20220821T150020Z
UID:81337-1663977600-1664063999@fortwaynecommunityfishingclub.com
SUMMARY:FREE FISHING DAY
DESCRIPTION:
URL:https://fortwaynecommunityfishingclub.com/event/free-fishing-day/
LOCATION:FREE FISHING DAY\, Anywhere in the State of Indiana\, Indiana
CATEGORIES:FREE FISHING DAY
ATTACH;FMTTYPE=image/png:https://fortwaynecommunityfishingclub.com/wp-content/uploads/2022/08/FWCFC-Fishing-Events-Pic.png
END:VEVENT
END:VCALENDAR