BEGIN:VCALENDAR
VERSION:2.0
PRODID:-// - ECPv6.15.20//NONSGML v1.0//EN
CALSCALE:GREGORIAN
METHOD:PUBLISH
X-ORIGINAL-URL:https://fortwaynecommunityfishingclub.com
X-WR-CALDESC:Events for 
REFRESH-INTERVAL;VALUE=DURATION:PT1H
X-Robots-Tag:noindex
X-PUBLISHED-TTL:PT1H
BEGIN:VTIMEZONE
TZID:UTC
BEGIN:STANDARD
TZOFFSETFROM:+0000
TZOFFSETTO:+0000
TZNAME:UTC
DTSTART:20250101T000000
END:STANDARD
END:VTIMEZONE
BEGIN:VEVENT
DTSTART;TZID=UTC:20260606T080000
DTEND;TZID=UTC:20260606T150000
DTSTAMP:20260423T143254
CREATED:20260402T234157Z
LAST-MODIFIED:20260402T234157Z
UID:82074-1780732800-1780758000@fortwaynecommunityfishingclub.com
SUMMARY:FORT WAYNE COMMUNITY FISHING CLUB SUMMER FISHING DERBY 27
DESCRIPTION:← Back Thank you for your response. ✨\n\n\n					\n						\n							\n							\n						\n						\n						\n						\n						\n							\n								\n									\n										\n										\n									\n									\n										\n										\n									\n								\n							\n						\n						\n							\n								\n									\n									\n										\n									\n									\n									\n								\n							\n						\n					\n				\n\n\n\nName(required)\n\n \n			\n				\n					\n						\n						\n						\n					\n				\n				\n			 \n	\n\n\nEmail(required)\n\n \n			\n				\n					\n						\n						\n						\n					\n				\n				\n			 \n	\n\n\nWebsite\n\n \n			\n				\n					\n						\n						\n						\n					\n				\n				\n			 \n	\n\n\nMessage\n\n \n			\n				\n					\n						\n						\n						\n					\n				\n				\n			\n	\n	\n\n				\n					\n				\n						Submit		\n		\n		\n	 \nΔ
URL:https://fortwaynecommunityfishingclub.com/event/fort-wayne-community-fishing-club-summer-fishing-derby-27/
LOCATION:Ivan Lebamoff Reservoir Park\, 2300 S Clinton St\, Fort Wayne\, IN\, 46803\, United States
ORGANIZER;CN="Fort Wayne Community Fishing Club":MAILTO:info@fortwaynecommunityfishingclub.com
END:VEVENT
END:VCALENDAR